BEGIN:VCALENDAR
VERSION:2.0
CALSCALE:GREGORIAN
PRODID:-//Diputació de Barcelona//DibaCMS//EN
BEGIN:VEVENT
UID:6030
DTSTAMP:20260423T133657
DTSTART:20180323T190000
DTEND:20180323T190000
SUMMARY:Gran Reserva d'Opera
LOCATION:
METHOD:PUBLISH
X-WR-CALNAME:ajuntament@santfost.cat
X-WR-TIMEZONE:Europe/Madrid
DESCRIPTION:
URI:https://www.santfost.cat/actualitat/agenda/gran-reserva-dopera.html
CLASS:PUBLIC
END:VEVENT
END:VCALENDAR
