BEGIN:VCALENDAR
VERSION:2.0
CALSCALE:GREGORIAN
PRODID:-//Diputació de Barcelona//DibaCMS//EN
BEGIN:VEVENT
UID:6032
DTSTAMP:20260423T133637
DTSTART:20180405T190000
DTEND:20180405T190000
SUMMARY:Club de lectura "Viatge per l'Scriptorium" de Paul Auster
LOCATION:
METHOD:PUBLISH
X-WR-CALNAME:ajuntament@santfost.cat
X-WR-TIMEZONE:Europe/Madrid
DESCRIPTION:
URI:https://www.santfost.cat/actualitat/agenda/club-de-lectura-viatge-per-lscriptorium-de-paul-auster.html
CLASS:PUBLIC
END:VEVENT
END:VCALENDAR
