BEGIN:VCALENDAR
VERSION:2.0
CALSCALE:GREGORIAN
PRODID:-//Diputació de Barcelona//DibaCMS//EN
BEGIN:VEVENT
UID:6033
DTSTAMP:20260423T120750
DTSTART:20180409T000000
DTEND:20180409T000000
SUMMARY:Càpsula formativa "Curriculum per competències"
LOCATION:
METHOD:PUBLISH
X-WR-CALNAME:ajuntament@santfost.cat
X-WR-TIMEZONE:Europe/Madrid
DESCRIPTION:
URI:https://www.santfost.cat/actualitat/agenda/capsula-formativa-curriculum-per-competencies.html
CLASS:PUBLIC
END:VEVENT
END:VCALENDAR
