BEGIN:VCALENDAR
VERSION:2.0
CALSCALE:GREGORIAN
PRODID:-//Diputació de Barcelona//DibaCMS//EN
BEGIN:VEVENT
UID:6036
DTSTAMP:20260423T022409
DTSTART:20180414T000000
DTEND:20180414T000000
SUMMARY:XV Mostra de Teatre de grups infantils amateurs de teatre de Catalunya 
LOCATION:
METHOD:PUBLISH
X-WR-CALNAME:ajuntament@santfost.cat
X-WR-TIMEZONE:Europe/Madrid
DESCRIPTION:
URI:https://www.santfost.cat/actualitat/agenda/xv-mostra-de-teatre-de-grups-infantils-amateurs-de-teatre-de-catalunya-.html
CLASS:PUBLIC
END:VEVENT
END:VCALENDAR
