BEGIN:VCALENDAR
VERSION:2.0
CALSCALE:GREGORIAN
PRODID:-//Diputació de Barcelona//DibaCMS//EN
BEGIN:VEVENT
UID:6038
DTSTAMP:20260423T212405
DTSTART:20180421T180000
DTEND:20180421T180000
SUMMARY:Ball dels Jubilats
LOCATION:
METHOD:PUBLISH
X-WR-CALNAME:ajuntament@santfost.cat
X-WR-TIMEZONE:Europe/Madrid
DESCRIPTION:
URI:https://www.santfost.cat/actualitat/agenda/6038-ball-dels-jubilats.html
CLASS:PUBLIC
END:VEVENT
END:VCALENDAR
