BEGIN:VCALENDAR
VERSION:2.0
CALSCALE:GREGORIAN
PRODID:-//Diputació de Barcelona//DibaCMS//EN
BEGIN:VEVENT
UID:6039
DTSTAMP:20260423T150541
DTSTART:20180422T120000
DTEND:20180422T120000
SUMMARY:Monòleg Peyu i Dani amb vermut i tapes 
LOCATION:
METHOD:PUBLISH
X-WR-CALNAME:ajuntament@santfost.cat
X-WR-TIMEZONE:Europe/Madrid
DESCRIPTION:
URI:https://www.santfost.cat/actualitat/agenda/monoleg-peyu-i-dani-amb-vermut-i-tapes-.html
CLASS:PUBLIC
END:VEVENT
END:VCALENDAR
