BEGIN:VCALENDAR
VERSION:2.0
CALSCALE:GREGORIAN
PRODID:-//Diputació de Barcelona//DibaCMS//EN
BEGIN:VEVENT
UID:6042
DTSTAMP:20260423T080155
DTSTART:20180505T000000
DTEND:20180505T000000
SUMMARY:Deixalleria mòbil
LOCATION:
METHOD:PUBLISH
X-WR-CALNAME:ajuntament@santfost.cat
X-WR-TIMEZONE:Europe/Madrid
DESCRIPTION:
URI:https://www.santfost.cat/actualitat/agenda/6042-deixalleria-mobil.html
CLASS:PUBLIC
END:VEVENT
END:VCALENDAR
