BEGIN:VCALENDAR
VERSION:2.0
CALSCALE:GREGORIAN
PRODID:-//Diputació de Barcelona//DibaCMS//EN
BEGIN:VEVENT
UID:6045
DTSTAMP:20260423T152431
DTSTART:20180506T000000
DTEND:20180506T000000
SUMMARY:Trofeu Primavera de Patinatge 
LOCATION:
METHOD:PUBLISH
X-WR-CALNAME:ajuntament@santfost.cat
X-WR-TIMEZONE:Europe/Madrid
DESCRIPTION:
URI:https://www.santfost.cat/actualitat/agenda/trofeu-primavera-de-patinatge-.html
CLASS:PUBLIC
END:VEVENT
END:VCALENDAR
