BEGIN:VCALENDAR
VERSION:2.0
CALSCALE:GREGORIAN
PRODID:-//Diputació de Barcelona//DibaCMS//EN
BEGIN:VEVENT
UID:6049
DTSTAMP:20260423T092445
DTSTART:20180514T000000
DTEND:20180514T000000
SUMMARY:Torneig de copa de futbol 7 
LOCATION:
METHOD:PUBLISH
X-WR-CALNAME:ajuntament@santfost.cat
X-WR-TIMEZONE:Europe/Madrid
DESCRIPTION:
URI:https://www.santfost.cat/actualitat/agenda/torneig-de-copa-de-futbol-7-.html
CLASS:PUBLIC
END:VEVENT
END:VCALENDAR
