BEGIN:VCALENDAR
VERSION:2.0
CALSCALE:GREGORIAN
PRODID:-//Diputació de Barcelona//DibaCMS//EN
BEGIN:VEVENT
UID:6050
DTSTAMP:20260423T150509
DTSTART:20180515T173000
DTEND:20180515T173000
SUMMARY:Contes en anglès "The Three Billy Gout's Gruff
LOCATION:
METHOD:PUBLISH
X-WR-CALNAME:ajuntament@santfost.cat
X-WR-TIMEZONE:Europe/Madrid
DESCRIPTION:
URI:https://www.santfost.cat/actualitat/agenda/contes-en-angles-the-three-billy-gouts-gruff.html
CLASS:PUBLIC
END:VEVENT
END:VCALENDAR
