BEGIN:VCALENDAR
VERSION:2.0
CALSCALE:GREGORIAN
PRODID:-//Diputació de Barcelona//DibaCMS//EN
BEGIN:VEVENT
UID:6053
DTSTAMP:20260423T164115
DTSTART:20180519T200000
DTEND:20180519T200000
SUMMARY:Nit de l'esport
LOCATION:
METHOD:PUBLISH
X-WR-CALNAME:ajuntament@santfost.cat
X-WR-TIMEZONE:Europe/Madrid
DESCRIPTION:
URI:https://www.santfost.cat/actualitat/agenda/nit-de-lesport.html
CLASS:PUBLIC
END:VEVENT
END:VCALENDAR
