BEGIN:VCALENDAR
VERSION:2.0
CALSCALE:GREGORIAN
PRODID:-//Diputació de Barcelona//DibaCMS//EN
BEGIN:VEVENT
UID:6054
DTSTAMP:20260424T051902
DTSTART:20180520T110000
DTEND:20180520T110000
SUMMARY:Fira d'entitats
LOCATION:
METHOD:PUBLISH
X-WR-CALNAME:ajuntament@santfost.cat
X-WR-TIMEZONE:Europe/Madrid
DESCRIPTION:
URI:https://www.santfost.cat/actualitat/agenda/6054-fira-dentitats.html
CLASS:PUBLIC
END:VEVENT
END:VCALENDAR
