BEGIN:VCALENDAR
VERSION:2.0
CALSCALE:GREGORIAN
PRODID:-//Diputació de Barcelona//DibaCMS//EN
BEGIN:VEVENT
UID:6056
DTSTAMP:20260423T120934
DTSTART:20180525T200000
DTEND:20180525T200000
SUMMARY:"supernit" a les biblioteques amb el Club Super3
LOCATION:
METHOD:PUBLISH
X-WR-CALNAME:ajuntament@santfost.cat
X-WR-TIMEZONE:Europe/Madrid
DESCRIPTION:
URI:https://www.santfost.cat/actualitat/agenda/supernit-a-les-biblioteques-amb-el-club-super3.html
CLASS:PUBLIC
END:VEVENT
END:VCALENDAR
