BEGIN:VCALENDAR
VERSION:2.0
CALSCALE:GREGORIAN
PRODID:-//Diputació de Barcelona//DibaCMS//EN
BEGIN:VEVENT
UID:6057
DTSTAMP:20260423T022222
DTSTART:20180525T000000
DTEND:20180525T000000
SUMMARY:Exposició fotogràfica
LOCATION:
METHOD:PUBLISH
X-WR-CALNAME:ajuntament@santfost.cat
X-WR-TIMEZONE:Europe/Madrid
DESCRIPTION:
URI:https://www.santfost.cat/actualitat/agenda/exposicio-fotografica.html
CLASS:PUBLIC
END:VEVENT
END:VCALENDAR
