BEGIN:VCALENDAR
VERSION:2.0
CALSCALE:GREGORIAN
PRODID:-//Diputació de Barcelona//DibaCMS//EN
BEGIN:VEVENT
UID:6062
DTSTAMP:20260423T040056
DTSTART:20180602T190000
DTEND:20180602T190000
SUMMARY:CIRCUS, Titelles per adults
LOCATION:
METHOD:PUBLISH
X-WR-CALNAME:ajuntament@santfost.cat
X-WR-TIMEZONE:Europe/Madrid
DESCRIPTION:
URI:https://www.santfost.cat/actualitat/agenda/circus-titelles-per-adults.html
CLASS:PUBLIC
END:VEVENT
END:VCALENDAR
