BEGIN:VCALENDAR
VERSION:2.0
CALSCALE:GREGORIAN
PRODID:-//Diputació de Barcelona//DibaCMS//EN
BEGIN:VEVENT
UID:6063
DTSTAMP:20260423T065258
DTSTART:20180602T000000
DTEND:20180602T000000
SUMMARY:24 HORES DE BÀSQUET
LOCATION:
METHOD:PUBLISH
X-WR-CALNAME:ajuntament@santfost.cat
X-WR-TIMEZONE:Europe/Madrid
DESCRIPTION:
URI:https://www.santfost.cat/actualitat/agenda/6063-24-hores-de-basquet.html
CLASS:PUBLIC
END:VEVENT
END:VCALENDAR
