BEGIN:VCALENDAR
VERSION:2.0
CALSCALE:GREGORIAN
PRODID:-//Diputació de Barcelona//DibaCMS//EN
BEGIN:VEVENT
UID:6064
DTSTAMP:20260423T035947
DTSTART:20180603T000000
DTEND:20180603T000000
SUMMARY:Diumenge 3, vine a gaudir de la Plaça de la Vila sense cotxes
LOCATION:
METHOD:PUBLISH
X-WR-CALNAME:ajuntament@santfost.cat
X-WR-TIMEZONE:Europe/Madrid
DESCRIPTION:
URI:https://www.santfost.cat/actualitat/agenda/diumenge-3-vine-a-gaudir-de-la-placa-de-la-vila-sense-cotxes.html
CLASS:PUBLIC
END:VEVENT
END:VCALENDAR
