BEGIN:VCALENDAR
VERSION:2.0
CALSCALE:GREGORIAN
PRODID:-//Diputació de Barcelona//DibaCMS//EN
BEGIN:VEVENT
UID:6065
DTSTAMP:20260423T150433
DTSTART:20180605T190000
DTEND:20180605T190000
SUMMARY:Inauguració exposició de pintura Maite Vivancos
LOCATION:
METHOD:PUBLISH
X-WR-CALNAME:ajuntament@santfost.cat
X-WR-TIMEZONE:Europe/Madrid
DESCRIPTION:
URI:https://www.santfost.cat/actualitat/agenda/inauguracio-exposicio-de-pintura-maite-vivancos.html
CLASS:PUBLIC
END:VEVENT
END:VCALENDAR
