BEGIN:VCALENDAR
VERSION:2.0
CALSCALE:GREGORIAN
PRODID:-//Diputació de Barcelona//DibaCMS//EN
BEGIN:VEVENT
UID:6067
DTSTAMP:20260423T070616
DTSTART:20180608T000000
DTEND:20180608T000000
SUMMARY:Laboratoris de lectura:Contes i tallers de manualitats
LOCATION:
METHOD:PUBLISH
X-WR-CALNAME:ajuntament@santfost.cat
X-WR-TIMEZONE:Europe/Madrid
DESCRIPTION:
URI:https://www.santfost.cat/actualitat/agenda/laboratoris-de-lecturacontes-i-tallers-de-manualitats.html
CLASS:PUBLIC
END:VEVENT
END:VCALENDAR
