BEGIN:VCALENDAR
VERSION:2.0
CALSCALE:GREGORIAN
PRODID:-//Diputació de Barcelona//DibaCMS//EN
BEGIN:VEVENT
UID:6069
DTSTAMP:20260424T051049
DTSTART:20180609T000000
DTEND:20180609T000000
SUMMARY:Torneig de Futbol 7
LOCATION:
METHOD:PUBLISH
X-WR-CALNAME:ajuntament@santfost.cat
X-WR-TIMEZONE:Europe/Madrid
DESCRIPTION:
URI:https://www.santfost.cat/actualitat/agenda/torneig-de-futbol-7.html
CLASS:PUBLIC
END:VEVENT
END:VCALENDAR
