BEGIN:VCALENDAR
VERSION:2.0
CALSCALE:GREGORIAN
PRODID:-//Diputació de Barcelona//DibaCMS//EN
BEGIN:VEVENT
UID:6071
DTSTAMP:20260423T224705
DTSTART:20180615T183000
DTEND:20180615T183000
SUMMARY:Tast de pa i xocolata
LOCATION:
METHOD:PUBLISH
X-WR-CALNAME:ajuntament@santfost.cat
X-WR-TIMEZONE:Europe/Madrid
DESCRIPTION:
URI:https://www.santfost.cat/actualitat/agenda/tast-de-pa-i-xocolata.html
CLASS:PUBLIC
END:VEVENT
END:VCALENDAR
