BEGIN:VCALENDAR
VERSION:2.0
CALSCALE:GREGORIAN
PRODID:-//Diputació de Barcelona//DibaCMS//EN
BEGIN:VEVENT
UID:6073
DTSTAMP:20260423T133839
DTSTART:20180701T000000
DTEND:20180701T000000
SUMMARY:Plaça de la vila sense cotxes
LOCATION:
METHOD:PUBLISH
X-WR-CALNAME:ajuntament@santfost.cat
X-WR-TIMEZONE:Europe/Madrid
DESCRIPTION:
URI:https://www.santfost.cat/actualitat/agenda/6073-placa-de-la-vila-sense-cotxes.html
CLASS:PUBLIC
END:VEVENT
END:VCALENDAR
