BEGIN:VCALENDAR
VERSION:2.0
CALSCALE:GREGORIAN
PRODID:-//Diputació de Barcelona//DibaCMS//EN
BEGIN:VEVENT
UID:6077
DTSTAMP:20260423T081507
DTSTART:20180714T000000
DTEND:20180714T000000
SUMMARY:Campionat Federat Pilota Preolímpica 
LOCATION:
METHOD:PUBLISH
X-WR-CALNAME:ajuntament@santfost.cat
X-WR-TIMEZONE:Europe/Madrid
DESCRIPTION:
URI:https://www.santfost.cat/actualitat/agenda/campionat-federat-pilota-preolimpica-.html
CLASS:PUBLIC
END:VEVENT
END:VCALENDAR
