BEGIN:VCALENDAR
VERSION:2.0
CALSCALE:GREGORIAN
PRODID:-//Diputació de Barcelona//DibaCMS//EN
BEGIN:VEVENT
UID:6078
DTSTAMP:20260423T094620
DTSTART:20180718T000000
DTEND:20180718T000000
SUMMARY:Servei d'assessorament i orientació jurídica  en matèria de clàusules abusives en temes hipotecaris
LOCATION:
METHOD:PUBLISH
X-WR-CALNAME:ajuntament@santfost.cat
X-WR-TIMEZONE:Europe/Madrid
DESCRIPTION:
URI:https://www.santfost.cat/actualitat/agenda/servei-dassessorament-i-orientacio-juridica-en-materia-de-clausules-abusives-en-temes-hipotecaris.html
CLASS:PUBLIC
END:VEVENT
END:VCALENDAR
