BEGIN:VCALENDAR
VERSION:2.0
CALSCALE:GREGORIAN
PRODID:-//Diputació de Barcelona//DibaCMS//EN
BEGIN:VEVENT
UID:6079
DTSTAMP:20260423T194657
DTSTART:20180720T223000
DTEND:20180720T223000
SUMMARY:Monòlegs a la piscina
LOCATION:
METHOD:PUBLISH
X-WR-CALNAME:ajuntament@santfost.cat
X-WR-TIMEZONE:Europe/Madrid
DESCRIPTION:
URI:https://www.santfost.cat/actualitat/agenda/monolegs-a-la-piscina.html
CLASS:PUBLIC
END:VEVENT
END:VCALENDAR
