BEGIN:VCALENDAR
VERSION:2.0
CALSCALE:GREGORIAN
PRODID:-//Diputació de Barcelona//DibaCMS//EN
BEGIN:VEVENT
UID:6082
DTSTAMP:20260423T164321
DTSTART:20180916T000000
DTEND:20180916T000000
SUMMARY:Festa de la verema i fira
LOCATION:
METHOD:PUBLISH
X-WR-CALNAME:ajuntament@santfost.cat
X-WR-TIMEZONE:Europe/Madrid
DESCRIPTION:
URI:https://www.santfost.cat/actualitat/agenda/festa-de-la-verema-i-fira.html
CLASS:PUBLIC
END:VEVENT
END:VCALENDAR
