BEGIN:VCALENDAR
VERSION:2.0
CALSCALE:GREGORIAN
PRODID:-//Diputació de Barcelona//DibaCMS//EN
BEGIN:VEVENT
UID:6087
DTSTAMP:20260423T092339
DTSTART:20180929T183000
DTEND:20180929T183000
SUMMARY:Festes del Patró - Xocolatada 
LOCATION:
METHOD:PUBLISH
X-WR-CALNAME:ajuntament@santfost.cat
X-WR-TIMEZONE:Europe/Madrid
DESCRIPTION:
URI:https://www.santfost.cat/actualitat/agenda/festes-del-patro-xocolatada-.html
CLASS:PUBLIC
END:VEVENT
END:VCALENDAR
