BEGIN:VCALENDAR
VERSION:2.0
CALSCALE:GREGORIAN
PRODID:-//Diputació de Barcelona//DibaCMS//EN
BEGIN:VEVENT
UID:6088
DTSTAMP:20260423T195417
DTSTART:20180929T000000
DTEND:20180929T000000
SUMMARY:Exposicions i tallers "ANC 5 anys de creació de l'Entitat"
LOCATION:
METHOD:PUBLISH
X-WR-CALNAME:ajuntament@santfost.cat
X-WR-TIMEZONE:Europe/Madrid
DESCRIPTION:
URI:https://www.santfost.cat/actualitat/agenda/exposicions-i-tallers-anc-5-anys-de-creacio-de-lentitat.html
CLASS:PUBLIC
END:VEVENT
END:VCALENDAR
