BEGIN:VCALENDAR
VERSION:2.0
CALSCALE:GREGORIAN
PRODID:-//Diputació de Barcelona//DibaCMS//EN
BEGIN:VEVENT
UID:6089
DTSTAMP:20260423T224528
DTSTART:20181006T000000
DTEND:20181006T000000
SUMMARY:III Festa popular Farolillo
LOCATION:
METHOD:PUBLISH
X-WR-CALNAME:ajuntament@santfost.cat
X-WR-TIMEZONE:Europe/Madrid
DESCRIPTION:
URI:https://www.santfost.cat/actualitat/agenda/iii-festa-popular-farolillo.html
CLASS:PUBLIC
END:VEVENT
END:VCALENDAR
