BEGIN:VCALENDAR
VERSION:2.0
CALSCALE:GREGORIAN
PRODID:-//Diputació de Barcelona//DibaCMS//EN
BEGIN:VEVENT
UID:6091
DTSTAMP:20260423T120650
DTSTART:20181014T180000
DTEND:20181014T180000
SUMMARY:39a Mostra de Teatre - "En portada"
LOCATION:
METHOD:PUBLISH
X-WR-CALNAME:ajuntament@santfost.cat
X-WR-TIMEZONE:Europe/Madrid
DESCRIPTION:
URI:https://www.santfost.cat/actualitat/agenda/39a-mostra-de-teatre-en-portada.html
CLASS:PUBLIC
END:VEVENT
END:VCALENDAR
