BEGIN:VCALENDAR
VERSION:2.0
CALSCALE:GREGORIAN
PRODID:-//Diputació de Barcelona//DibaCMS//EN
BEGIN:VEVENT
UID:6094
DTSTAMP:20260423T022059
DTSTART:20181027T000000
DTEND:20181027T000000
SUMMARY:I Trofeu Nacional del C.Patinatge lliure
LOCATION:
METHOD:PUBLISH
X-WR-CALNAME:ajuntament@santfost.cat
X-WR-TIMEZONE:Europe/Madrid
DESCRIPTION:
URI:https://www.santfost.cat/actualitat/agenda/i-trofeu-nacional-del-cpatinatge-lliure.html
CLASS:PUBLIC
END:VEVENT
END:VCALENDAR
