BEGIN:VCALENDAR
VERSION:2.0
CALSCALE:GREGORIAN
PRODID:-//Diputació de Barcelona//DibaCMS//EN
BEGIN:VEVENT
UID:6101
DTSTAMP:20260423T035528
DTSTART:20181118T000000
DTEND:20181118T000000
SUMMARY:Open cadet patinatge
LOCATION:
METHOD:PUBLISH
X-WR-CALNAME:ajuntament@santfost.cat
X-WR-TIMEZONE:Europe/Madrid
DESCRIPTION:
URI:https://www.santfost.cat/actualitat/agenda/open-cadet-patinatge.html
CLASS:PUBLIC
END:VEVENT
END:VCALENDAR
