BEGIN:VCALENDAR
VERSION:2.0
CALSCALE:GREGORIAN
PRODID:-//Diputació de Barcelona//DibaCMS//EN
BEGIN:VEVENT
UID:6102
DTSTAMP:20260423T040218
DTSTART:20181121T170000
DTEND:20181121T170000
SUMMARY:Curs de fotografia digital
LOCATION:
METHOD:PUBLISH
X-WR-CALNAME:ajuntament@santfost.cat
X-WR-TIMEZONE:Europe/Madrid
DESCRIPTION:
URI:https://www.santfost.cat/actualitat/agenda/6102-curs-de-fotografia-digital.html
CLASS:PUBLIC
END:VEVENT
END:VCALENDAR
