BEGIN:VCALENDAR
VERSION:2.0
CALSCALE:GREGORIAN
PRODID:-//Diputació de Barcelona//DibaCMS//EN
BEGIN:VEVENT
UID:6103
DTSTAMP:20260423T080923
DTSTART:20181122T000000
DTEND:20181122T000000
SUMMARY:Treu-li suc a la sexualitat
LOCATION:
METHOD:PUBLISH
X-WR-CALNAME:ajuntament@santfost.cat
X-WR-TIMEZONE:Europe/Madrid
DESCRIPTION:
URI:https://www.santfost.cat/actualitat/agenda/treu-li-suc-a-la-sexualitat.html
CLASS:PUBLIC
END:VEVENT
END:VCALENDAR
