BEGIN:VCALENDAR
VERSION:2.0
CALSCALE:GREGORIAN
PRODID:-//Diputació de Barcelona//DibaCMS//EN
BEGIN:VEVENT
UID:6105
DTSTAMP:20260423T081626
DTSTART:20181125T000000
DTEND:20181125T000000
SUMMARY:Fira de brocanters i col.leccionistes
LOCATION:
METHOD:PUBLISH
X-WR-CALNAME:ajuntament@santfost.cat
X-WR-TIMEZONE:Europe/Madrid
DESCRIPTION:
URI:https://www.santfost.cat/actualitat/agenda/6105-fira-de-brocanters-i-colleccionistes.html
CLASS:PUBLIC
END:VEVENT
END:VCALENDAR
