BEGIN:VCALENDAR
VERSION:2.0
CALSCALE:GREGORIAN
PRODID:-//Diputació de Barcelona//DibaCMS//EN
BEGIN:VEVENT
UID:6106
DTSTAMP:20260423T040407
DTSTART:20181125T170000
DTEND:20181125T170000
SUMMARY:Dia internacional contra la violència masclista 25 N
LOCATION:
METHOD:PUBLISH
X-WR-CALNAME:ajuntament@santfost.cat
X-WR-TIMEZONE:Europe/Madrid
DESCRIPTION:
URI:https://www.santfost.cat/actualitat/agenda/dia-internacional-contra-la-violencia-masclista-25-n.html
CLASS:PUBLIC
END:VEVENT
END:VCALENDAR
