BEGIN:VCALENDAR
VERSION:2.0
CALSCALE:GREGORIAN
PRODID:-//Diputació de Barcelona//DibaCMS//EN
BEGIN:VEVENT
UID:6107
DTSTAMP:20260423T040233
DTSTART:20181126T000000
DTEND:20181126T000000
SUMMARY:Estàs a l'atur? Prepara't per buscar feina
LOCATION:
METHOD:PUBLISH
X-WR-CALNAME:ajuntament@santfost.cat
X-WR-TIMEZONE:Europe/Madrid
DESCRIPTION:
URI:https://www.santfost.cat/actualitat/agenda/6107-estas-a-latur-preparat-per-buscar-feina.html
CLASS:PUBLIC
END:VEVENT
END:VCALENDAR
