BEGIN:VCALENDAR
VERSION:2.0
CALSCALE:GREGORIAN
PRODID:-//Diputació de Barcelona//DibaCMS//EN
BEGIN:VEVENT
UID:6108
DTSTAMP:20260423T081226
DTSTART:20181127T000000
DTEND:20181127T000000
SUMMARY:Curs de manipulació d'aliments
LOCATION:
METHOD:PUBLISH
X-WR-CALNAME:ajuntament@santfost.cat
X-WR-TIMEZONE:Europe/Madrid
DESCRIPTION:
URI:https://www.santfost.cat/actualitat/agenda/6108-curs-de-manipulacio-daliments.html
CLASS:PUBLIC
END:VEVENT
END:VCALENDAR
