BEGIN:VCALENDAR
VERSION:2.0
CALSCALE:GREGORIAN
PRODID:-//Diputació de Barcelona//DibaCMS//EN
BEGIN:VEVENT
UID:6111
DTSTAMP:20260423T053517
DTSTART:20181202T170000
DTEND:20181202T170000
SUMMARY:Dia Internacional del Voluntariat. Festival artístic
LOCATION:
METHOD:PUBLISH
X-WR-CALNAME:ajuntament@santfost.cat
X-WR-TIMEZONE:Europe/Madrid
DESCRIPTION:
URI:https://www.santfost.cat/actualitat/agenda/dia-internacional-del-voluntariat-festival-artistic.html
CLASS:PUBLIC
END:VEVENT
END:VCALENDAR
