BEGIN:VCALENDAR
VERSION:2.0
CALSCALE:GREGORIAN
PRODID:-//Diputació de Barcelona//DibaCMS//EN
BEGIN:VEVENT
UID:6116
DTSTAMP:20260424T053615
DTSTART:20181213T173000
DTEND:20181213T173000
SUMMARY:Quinto i berenar de Nadal 
LOCATION:
METHOD:PUBLISH
X-WR-CALNAME:ajuntament@santfost.cat
X-WR-TIMEZONE:Europe/Madrid
DESCRIPTION:
URI:https://www.santfost.cat/actualitat/agenda/quinto-i-berenar-de-nadal-.html
CLASS:PUBLIC
END:VEVENT
END:VCALENDAR
