BEGIN:VCALENDAR
VERSION:2.0
CALSCALE:GREGORIAN
PRODID:-//Diputació de Barcelona//DibaCMS//EN
BEGIN:VEVENT
UID:6118
DTSTAMP:20260423T195544
DTSTART:20181215T110000
DTEND:20181215T110000
SUMMARY:Taller de cuina - Cuina de Nadal
LOCATION:
METHOD:PUBLISH
X-WR-CALNAME:ajuntament@santfost.cat
X-WR-TIMEZONE:Europe/Madrid
DESCRIPTION:
URI:https://www.santfost.cat/actualitat/agenda/taller-de-cuina-cuina-de-nadal.html
CLASS:PUBLIC
END:VEVENT
END:VCALENDAR
