BEGIN:VCALENDAR
VERSION:2.0
CALSCALE:GREGORIAN
PRODID:-//Diputació de Barcelona//DibaCMS//EN
BEGIN:VEVENT
UID:6121
DTSTAMP:20260423T103916
DTSTART:20181215T180000
DTEND:20181215T180000
SUMMARY:Partit de la lliga La cúpula - Club Esportiu Blauet
LOCATION:
METHOD:PUBLISH
X-WR-CALNAME:ajuntament@santfost.cat
X-WR-TIMEZONE:Europe/Madrid
DESCRIPTION:
URI:https://www.santfost.cat/actualitat/agenda/partit-de-la-lliga-la-cupula-club-esportiu-blauet.html
CLASS:PUBLIC
END:VEVENT
END:VCALENDAR
