BEGIN:VCALENDAR
VERSION:2.0
CALSCALE:GREGORIAN
PRODID:-//Diputació de Barcelona//DibaCMS//EN
BEGIN:VEVENT
UID:6122
DTSTAMP:20260424T034916
DTSTART:20181216T000000
DTEND:20181216T000000
SUMMARY:Fira d'Artesans
LOCATION:
METHOD:PUBLISH
X-WR-CALNAME:ajuntament@santfost.cat
X-WR-TIMEZONE:Europe/Madrid
DESCRIPTION:
URI:https://www.santfost.cat/actualitat/agenda/6122-fira-dartesans.html
CLASS:PUBLIC
END:VEVENT
END:VCALENDAR
