BEGIN:VCALENDAR
VERSION:2.0
CALSCALE:GREGORIAN
PRODID:-//Diputació de Barcelona//DibaCMS//EN
BEGIN:VEVENT
UID:6125
DTSTAMP:20260422T233657
DTSTART:20181221T000000
DTEND:20181221T000000
SUMMARY:Parc de Nadal - Caga tió, bola de Nadal i taller pintacares
LOCATION:
METHOD:PUBLISH
X-WR-CALNAME:ajuntament@santfost.cat
X-WR-TIMEZONE:Europe/Madrid
DESCRIPTION:
URI:https://www.santfost.cat/actualitat/agenda/parc-de-nadal-caga-tio-bola-de-nadal-i-taller-pintacares.html
CLASS:PUBLIC
END:VEVENT
END:VCALENDAR
