BEGIN:VCALENDAR
VERSION:2.0
CALSCALE:GREGORIAN
PRODID:-//Diputació de Barcelona//DibaCMS//EN
BEGIN:VEVENT
UID:6127
DTSTAMP:20260423T081253
DTSTART:20181222T000000
DTEND:20181222T000000
SUMMARY:Torneig Femení Handbol
LOCATION:
METHOD:PUBLISH
X-WR-CALNAME:ajuntament@santfost.cat
X-WR-TIMEZONE:Europe/Madrid
DESCRIPTION:
URI:https://www.santfost.cat/actualitat/agenda/torneig-femeni-handbol.html
CLASS:PUBLIC
END:VEVENT
END:VCALENDAR
