BEGIN:VCALENDAR
VERSION:2.0
CALSCALE:GREGORIAN
PRODID:-//Diputació de Barcelona//DibaCMS//EN
BEGIN:VEVENT
UID:6129
DTSTAMP:20260423T133519
DTSTART:20181223T000000
DTEND:20181223T000000
SUMMARY:Pessebre Vivent Sant Fost 52a Edició
LOCATION:
METHOD:PUBLISH
X-WR-CALNAME:ajuntament@santfost.cat
X-WR-TIMEZONE:Europe/Madrid
DESCRIPTION:
URI:https://www.santfost.cat/actualitat/agenda/6129-pessebre-vivent-sant-fost-52a-edicio.html
CLASS:PUBLIC
END:VEVENT
END:VCALENDAR
