BEGIN:VCALENDAR
VERSION:2.0
CALSCALE:GREGORIAN
PRODID:-//Diputació de Barcelona//DibaCMS//EN
BEGIN:VEVENT
UID:6130
DTSTAMP:20260423T150607
DTSTART:20181223T190000
DTEND:20181223T190000
SUMMARY:Els pastorets
LOCATION:
METHOD:PUBLISH
X-WR-CALNAME:ajuntament@santfost.cat
X-WR-TIMEZONE:Europe/Madrid
DESCRIPTION:
URI:https://www.santfost.cat/actualitat/agenda/els-pastorets.html
CLASS:PUBLIC
END:VEVENT
END:VCALENDAR
