BEGIN:VCALENDAR
VERSION:2.0
CALSCALE:GREGORIAN
PRODID:-//Diputació de Barcelona//DibaCMS//EN
BEGIN:VEVENT
UID:6138
DTSTAMP:20260422T223919
DTSTART:20190113T183000
DTEND:20190113T183000
SUMMARY:Pessebre Vivent Sant Fost 52a Edició
LOCATION:
METHOD:PUBLISH
X-WR-CALNAME:ajuntament@santfost.cat
X-WR-TIMEZONE:Europe/Madrid
DESCRIPTION:
URI:https://www.santfost.cat/actualitat/agenda/6138-pessebre-vivent-sant-fost-52a-edicio.html
CLASS:PUBLIC
END:VEVENT
END:VCALENDAR
