BEGIN:VCALENDAR
VERSION:2.0
CALSCALE:GREGORIAN
PRODID:-//Diputació de Barcelona//DibaCMS//EN
BEGIN:VEVENT
UID:6139
DTSTAMP:20260422T235540
DTSTART:20190219T170000
DTEND:20190219T170000
SUMMARY:Laboratoris de lectura: Descobreix contes a partir de l'experimentació!
LOCATION:
METHOD:PUBLISH
X-WR-CALNAME:ajuntament@santfost.cat
X-WR-TIMEZONE:Europe/Madrid
DESCRIPTION:
URI:https://www.santfost.cat/actualitat/agenda/laboratoris-de-lectura-descobreix-contes-a-partir-de-lexperimentacio.html
CLASS:PUBLIC
END:VEVENT
END:VCALENDAR
