BEGIN:VCALENDAR
VERSION:2.0
CALSCALE:GREGORIAN
PRODID:-//Diputació de Barcelona//DibaCMS//EN
BEGIN:VEVENT
UID:6140
DTSTAMP:20260423T195131
DTSTART:20190222T170000
DTEND:20190222T170000
SUMMARY:Musica per a nadons
LOCATION:
METHOD:PUBLISH
X-WR-CALNAME:ajuntament@santfost.cat
X-WR-TIMEZONE:Europe/Madrid
DESCRIPTION:
URI:https://www.santfost.cat/actualitat/agenda/6140-musica-per-a-nadons.html
CLASS:PUBLIC
END:VEVENT
END:VCALENDAR
